BEGIN:VCALENDAR
PRODID:-//IONAS//TVM//DE
VERSION:2.0
CALSCALE:GREGORIAN
BEGIN:VTIMEZONE
TZID:Europe/Berlin
LAST-MODIFIED:20201010T011803Z
TZURL:http://tzurl.org/zoneinfo/Europe/Berlin
X-LIC-LOCATION:Europe/Berlin
X-PROLEPTIC-TZNAME:LMT
BEGIN:STANDARD
TZNAME:CET
TZOFFSETFROM:+005328
TZOFFSETTO:+0100
DTSTART:18930401T000000
END:STANDARD
BEGIN:DAYLIGHT
TZNAME:CEST
TZOFFSETFROM:+0100
TZOFFSETTO:+0200
DTSTART:19160430T230000
RDATE:19400401T020000
RDATE:19430329T020000
RDATE:19460414T020000
RDATE:19470406T030000
RDATE:19480418T020000
RDATE:19490410T020000
RDATE:19800406T020000
END:DAYLIGHT
BEGIN:STANDARD
TZNAME:CET
TZOFFSETFROM:+0200
TZOFFSETTO:+0100
DTSTART:19161001T010000
RDATE:19421102T030000
RDATE:19431004T030000
RDATE:19441002T030000
RDATE:19451118T030000
RDATE:19461007T030000
END:STANDARD
BEGIN:DAYLIGHT
TZNAME:CEST
TZOFFSETFROM:+0100
TZOFFSETTO:+0200
DTSTART:19170416T020000
RRULE:FREQ=YEARLY;UNTIL=19180415T010000Z;BYMONTH=4;BYDAY=3MO
END:DAYLIGHT
BEGIN:STANDARD
TZNAME:CET
TZOFFSETFROM:+0200
TZOFFSETTO:+0100
DTSTART:19170917T030000
RRULE:FREQ=YEARLY;UNTIL=19180916T010000Z;BYMONTH=9;BYDAY=3MO
END:STANDARD
BEGIN:DAYLIGHT
TZNAME:CEST
TZOFFSETFROM:+0100
TZOFFSETTO:+0200
DTSTART:19440403T020000
RRULE:FREQ=YEARLY;UNTIL=19450402T010000Z;BYMONTH=4;BYDAY=1MO
END:DAYLIGHT
BEGIN:DAYLIGHT
TZNAME:CEMT
TZOFFSETFROM:+0200
TZOFFSETTO:+0300
DTSTART:19450524T020000
RDATE:19470511T030000
END:DAYLIGHT
BEGIN:DAYLIGHT
TZNAME:CEST
TZOFFSETFROM:+0300
TZOFFSETTO:+0200
DTSTART:19450924T030000
RDATE:19470629T030000
END:DAYLIGHT
BEGIN:STANDARD
TZNAME:CET
TZOFFSETFROM:+0100
TZOFFSETTO:+0100
DTSTART:19460101T000000
RDATE:19800101T000000
END:STANDARD
BEGIN:STANDARD
TZNAME:CET
TZOFFSETFROM:+0200
TZOFFSETTO:+0100
DTSTART:19471005T030000
RRULE:FREQ=YEARLY;UNTIL=19491002T010000Z;BYMONTH=10;BYDAY=1SU
END:STANDARD
BEGIN:STANDARD
TZNAME:CET
TZOFFSETFROM:+0200
TZOFFSETTO:+0100
DTSTART:19800928T030000
RRULE:FREQ=YEARLY;UNTIL=19950924T010000Z;BYMONTH=9;BYDAY=-1SU
END:STANDARD
BEGIN:DAYLIGHT
TZNAME:CEST
TZOFFSETFROM:+0100
TZOFFSETTO:+0200
DTSTART:19810329T020000
RRULE:FREQ=YEARLY;BYMONTH=3;BYDAY=-1SU
END:DAYLIGHT
BEGIN:STANDARD
TZNAME:CET
TZOFFSETFROM:+0200
TZOFFSETTO:+0100
DTSTART:19961027T030000
RRULE:FREQ=YEARLY;BYMONTH=10;BYDAY=-1SU
END:STANDARD
END:VTIMEZONE
BEGIN:VEVENT
DTSTAMP:20260422T124145Z
DTSTART;TZID=Europe/Berlin:20260503T170000
DTEND;TZID=Europe/Berlin:20260503T170000
SUMMARY:Konzert: Nomadische Stimmen
CREATED:20251219T103812Z
LAST-MODIFIED:20260130T105048Z
DESCRIPTION:Was entsteht\, wenn westliche zeitgenössische Musik auf mongo
 lische Klangwelten trifft? Das neue Konzertprojekt des Trio Radial und E
 nkhtuya Jambaldorj lädt ein zu einer musikalischen Reise jenseits gewohn
 ter Formen – eine Einladung zum tiefen Hören\, zum Innehalten\, zum Mitg
 estalten und bringt\n\ngleich drei Uraufführungen von Komponist:innen au
 s unterschiedlichen Ländern der Welt aufs Programm. Das Konzertvorhaben 
 des Trio Radial widmet sich zusammen mit der mongolischen Musikerin Enkh
 tuya Jambaldorj klanglichem Neuland. Die Neugierde an anderen Musikkultu
 ren war schon immer ein prägendes Element des Trio Radial. Für die gemei
 nsame Performance kommen Werke für Horn\, Klarinette\, Violoncello und t
 raditionelle mongolische Instrumente von May Lyon\, Neo Hülcker und Nirm
 ali Fenn zur Uraufführung. Diese werden umrahmt und ergänzt von Improvis
 ationen in verschiedenen Formationen. Der rote Faden\, der sich durch di
 e Performance webt\, ist ein tiefes\n\nHörerlebnis\, das wir entstehen l
 assen: ein besinnliches Konzert des Innehaltens und Horchens öffnet den 
 Raum für innere Bilder und Klänge und aktiviert den Hörsinn. Durch verti
 eftes Zuhören im Sinne des „Deep Listening“ der Komponistin Pauline Oliv
 eros\, kann ein Verbindungsgefühl für die Umwelt und für das Miteinander
  entstehen. Ihre Improvisationsanleitung\, die die Musikerinnen mit dem 
 Publikum zu einer gemeinsam gestalteten Improvisation bewegt\, steht sym
 ptomatisch für das Programm.\n\nAuch das Ambiente wird im Sinne des Höre
 ns und Horchens gestaltet\; anders\, als auf die herkömmliche Art von vo
 neinander getrennter Bühne- und Publikumsbereiche werden die Bereiche mi
 teinander vermischt und mit bequemen Sitz- und Liegemöglichkeiten ausges
 tattet.  Ein Konzert des Trio Radial und Enkhtuya Jambaldorj\n\n\n\n\nTr
 io Radial\n\nDeepa Goonetilleke · Horn\n\nShelly Ezra · Klarinetten\n\nE
 sther Saladin · Violoncello\n\n& Enkhtuya Jambaldorj · Shudraga (Langhal
 slaute)\, Morin\n\nKhuur (Pferdekopfgeige)\, Yatga (Zither)\, Gesang\n\n
 \n\n\nLennart Scheuren · Elektronik\n\n\n\n\nAuftragskompositionen von N
 eo Hülcker\, Nirmali Fenn und May Lyon\n\nAnmeldungen unter: kathrin.bac
 h@geisenheim.de oder telefonisch unter 06722-701191\n(Mo-Fr. von 08:00-1
 3:00 Uhr)
LOCATION:Kulturtreff \"Die Scheune\"
X-LOCATION-NAME:Kulturtreff \"Die Scheune\"
X-STREET-ADDRESS:Beinstr. 11
X-POSTAL-CODE:65366
X-LOCALITY:Geisenheim
X-REGION:Hessen
X-COUNTRY:Deutschland
X-ORGANIZER-NAME:Hochschulstadt Geisenheim
CONTACT:Kathrin Bach\,kathrin.bach@geisenheim.de\,06722-701-191
X-CONTACT-GIVEN-NAME:Kathrin
X-CONTACT-FAMILY-NAME:Bach
X-CONTACT-EMAIL:kathrin.bach@geisenheim.de
X-CONTACT-TELEPHONE:06722-701-191
X-CONTACT-WEBSITE:https://www.geisenheim.de/
X-CONTACT-ADDRESS-COUNTRY:Deutschland
X-CONTACT-ADDRESS-REGION:Hessen
X-CONTACT-ADDRESS-POSTALCODE:65366
X-CONTACT-ADDRESS-LOCALITY:Geisenheim
X-CONTACT-ADDRESS-STREET:Rüdesheimer Str. 48
X-CONTACT-GEO:49.98305\;7.965117
URL:http://www.trioradial.com/
X-IONAS-CATEGORY:Konzert
CATEGORIES:Konzert,Kinder,Erwachsene,Kultur,Musik
ATTACH;FMTTYPE=image/jpeg;X-COPYRIGHT=Philippe Stier:https://www.geisenhe
 im.de/bilder/veranstaltungskalender/2026/trio-radial.jpg?cid=fds.31dv
UID:adc7d519-7086-4219-ab87-bcf69674ef59:2026-05-03
END:VEVENT
END:VCALENDAR
